BEGIN:VCALENDAR
VERSION:2.0
PRODID:-//Szeltner Aikido Dojók - ECPv6.15.20//NONSGML v1.0//EN
CALSCALE:GREGORIAN
METHOD:PUBLISH
X-WR-CALNAME:Szeltner Aikido Dojók
X-ORIGINAL-URL:https://szeltner-aikido.hu
X-WR-CALDESC:Események Szeltner Aikido Dojók
REFRESH-INTERVAL;VALUE=DURATION:PT1H
X-Robots-Tag:noindex
X-PUBLISHED-TTL:PT1H
BEGIN:VTIMEZONE
TZID:Europe/Paris
BEGIN:DAYLIGHT
TZOFFSETFROM:+0100
TZOFFSETTO:+0200
TZNAME:CEST
DTSTART:20210328T010000
END:DAYLIGHT
BEGIN:STANDARD
TZOFFSETFROM:+0200
TZOFFSETTO:+0100
TZNAME:CET
DTSTART:20211031T010000
END:STANDARD
BEGIN:DAYLIGHT
TZOFFSETFROM:+0100
TZOFFSETTO:+0200
TZNAME:CEST
DTSTART:20220327T010000
END:DAYLIGHT
BEGIN:STANDARD
TZOFFSETFROM:+0200
TZOFFSETTO:+0100
TZNAME:CET
DTSTART:20221030T010000
END:STANDARD
BEGIN:DAYLIGHT
TZOFFSETFROM:+0100
TZOFFSETTO:+0200
TZNAME:CEST
DTSTART:20230326T010000
END:DAYLIGHT
BEGIN:STANDARD
TZOFFSETFROM:+0200
TZOFFSETTO:+0100
TZNAME:CET
DTSTART:20231029T010000
END:STANDARD
END:VTIMEZONE
BEGIN:VEVENT
DTSTART;TZID=Europe/Paris:20220122T090000
DTEND;TZID=Europe/Paris:20220122T180000
DTSTAMP:20260426T013621
CREATED:20211231T095407Z
LAST-MODIFIED:20211231T101039Z
UID:5975-1642842000-1642874400@szeltner-aikido.hu
SUMMARY:2. Aikido Másképp Szeminárium
DESCRIPTION:RÉSZLETEK\, JELENTKEZÉS
URL:https://szeltner-aikido.hu/event/2-aikido-maskepp-szeminarium/
LOCATION:Keiko Harc- és Mozgásművészeti Akadémia\, Tomori köz 6.\, Budapest\, Budapest\, 1138\, Magyarország
CATEGORIES:Események
ATTACH;FMTTYPE=image/jpeg:https://szeltner-aikido.hu/wp-content/uploads/2021/12/Aikido-Maskepp-januari-szeminarium-banner.jpg
ORGANIZER;CN="Szeltner Zsolt":MAILTO:szeltnerzsolt@gmail.com
END:VEVENT
END:VCALENDAR